Workbook

Sheet Table 1
A1: TEMPO DETERMINATO
A3: VIGILI PROVV. | B3: COMPETENZE | C3: ONERI | D3: IRAP | E3: TOTALE
B4: =dettagli!C18 -> 101393.46 | C4: =dettagli!D18 -> 29348.52 | D4: =dettagli!E18 -> 8786.39 | E4: =SUM(B4:D4) -> 139528.37
A5: STAFF | B5: COMPETENZE | C5: ONERI | D5: IRAP | E5: TOTALE
B6: =dettagli!C5 -> 12144.92 | C6: =dettagli!D5 -> 3532.21 | D6: =dettagli!E5 -> 1052.91 | E6: =SUM(B6:D6) -> 16730.04
A7: =SUM(E4:E6) -> 156258.41

Sheet dettagli
C3: comp | D3: oneri | E3: irap | F3: complex
A5: STAFF | C5: 12144.92 | D5: 3532.21 | E5: 1052.91 | F5: =SUM(C5:E5) -> 16730.04
A8: vigili prov | B8: Giuliani | C8: =10662.19 -> 10662.19 | D8: 3085.65 | E8: 924.39 | F8: =SUM(C8:E8) -> 14672.23
B9: tech | C9: 12655.98 | D9: 3666.97 | E9: 1093.02 | F9: =SUM(C9:E9) -> 17415.97
B10: mocci | C10: 12655.35 | D10: 3662.62 | E10: 1097.19 | F10: =SUM(C10:E10) -> 17415.16
B11: pilotto | C11: 8447.89 | D11: 2444.96 | E11: 732.42 | F11: =SUM(C11:E11) -> 11625.27
B12: porcu | C12: 16876.8 | D12: 4884.33 | E12: 1463.18 | F12: =SUM(C12:E12) -> 23224.31
B13: vargiu | C13: 10549.12 | D13: 3053.01 | E13: 914.59 | F13: =SUM(C13:E13) -> 14516.72
B14: demontis | C14: 10549.12 | D14: 3053.01 | E14: 914.59 | F14: =SUM(C14:E14) -> 14516.72
B15: fancellu | C15: 10549.12 | D15: 3053.01 | E15: 914.59 | F15: =SUM(C15:E15) -> 14516.72
B16: gallo | C16: 8447.89 | D16: 2444.96 | E16: 732.42 | F16: =SUM(C16:E16) -> 11625.27
B18: tot | C18: =SUM(C8:C16) -> 101393.46 | D18: =SUM(D8:D16) -> 29348.52 | E18: =SUM(E8:E16) -> 8786.39 | F18: =SUM(F8:F16) -> 139528.37
