Workbook
Name Payment_Needed: "Pagamento richiesto"
Name Reimbursement: "Rimborso"

Sheet Copertina
A1: ALLEGATO ALLA SEZIONE 2.3
A2: PIANO RISCHI

Sheet Tabelle Indicatori Risk
A1: INDICATORI DI STIMA DEL LIVELLO DI RISCHIO (rielaborazione di indicatori proposti da ANAC )
A2: PROBABILITA' | C2: Descrizione | I2: IMPATTO
A4: Interessi esterni | C4: Il processo dà luogo a elevati o modesti benefici economici o di altra natura per i destinatari | I4: Impatto sull’immagine dell’Ente
A6: Discrezionalità del decisore interno | C6: La presenza di un processo decisionale altamente discrezionale nelle attività svolte, negli atti prodotti, nel dare risposte alle emrgenze | I6: Impatto in termini di contenzioso
A8: Eventi corruttivi passati | C8: Eventi "sentinella" , procedimenti avviati dall’autorità giudiziaria o contabile o ricorsi amministrativi nei confronti dell’Ente o procedimenti disciplinari avviati nei confronti dei dipendenti impiegati sul processo in esame (ultimo anno, ultimi 3 anni, mai) | I8: Impatto organizzativo e/o sulla continuità del servizio
A10: Grado attuazione misure | C10: Livello di attuazione delle misure di prevenzione sia generali sia specifiche previste dal PTPCT per il processo/attività, desunte dai monitoraggi effettuati dai responsabili (A_M_B ritardo nei monitoraggi e nel fornire elementi a supporto della verifica). Livello adempimenti Trasparenza | I10: Danno generato
A12: Grado attuazione misure | C12: Livello di attuazione delle misure di prevenzione sia generali sia specifiche previste dal PTPCT per il processo/attività, desunte dai monitoraggi effettuati dai responsabili (A_M_B ritardo nei monitoraggi e nel fornire elementi a supporto della verifica). Livello adempimenti Trasparenza
A14: Segnalazioni, reclami pervenuti | C14: con riferimento al processo in oggetto, intese come qualsiasi informazione pervenuta a mezzo email, telefono, ovvero reclami o risultati di indagini di customer satisfaction, avente ad oggetto episodi di abuso, illecito, mancato rispetto delle procedure, condotta non etica, corruzione vera e propria, cattiva gestione, scarsa qualità del servizio (negli utlimi 3 anni)
A16: Presenza di gravi rilievi a seguito dei controlli interni di regolarità amministrativa | C16: (art. 147-bis, c. 2, TUEL), tali da richiedere annullamento in autotutela, revoca di provvedimenti adottati, ecc. (livello di gravità rilievi)
A18: Impatto sull’immagine dell’Ente | E18: numero di articoli di giornale pubblicati sulla stampa locale o nazionale o dal numero di servizi radio-televisivi trasmessi, che hanno riguardato episodi di cattiva amministrazione, scarsa qualità dei servizi o corruzione (ultimi 5 anni)
A20: Capacità dell’Ente di far fronte alle proprie carenze organizzative nei ruoli di responsabilità | C20: (Dirigenti, EQ) attraverso l’acquisizione delle corrispondenti figure apicali anziché l’affidamento di interim (Utilizzo dell’interim per lunghi /medi/brevi periodi di tempo, ritardato espletamento delle procedure per ricoprire i ruoli apicali rimasti vacanti

Sheet Valutazione Rischio autom
A1: ENTE : COMUNE DI MACOMER | F1: Allegato al PIAO 2024/2026
C2: #VALUE! | F2: INDICATORI DI STIMA DEL LIVELLO DI RISCHIO (rielaborazione di indicatori proposti da ANAC )
F3: INDICATORE | M3: GIUDIZIO SINTETICO / MOTIVAZIONE
F4: Interessi esterni | G4: Discrezionalità del decisore interno | H4: Eventi corruttivi passati | I4: Grado attuazione misure | J4: Segnalazioni, reclami pervenuti | K4: Impatto sull’immagine dell’Ente | L4: VALUTAZIONE DEL RISCHIO
A5: AREA DI RISCHIO | B5: PROCESSI | C5: ATTIVITA' | E5: PROCEDURE/ATTIVITA'/FASI
A6: ACQUISIZIONE E GESTIONE DEL PERSONALE | B6: GESTIONE DEL PERSONALE | C6: 1 | D6: 1 | E6: Gestione infortuni sul lavoro | F6: A | G6: B | H6: B | I6: B | J6: B | K6: B | L6: B | Q6: =IF(F6="A",3,(IF(F6="M",2,(IF(F6="B",1,""))))) -> 3
C7: 2 | D7: 2 | E7: Autorizzazioni a prestazioni professionali di personale interno a tempo indeterminato e determinato | F7: A | G7: A | H7: B | I7: M | J7: A | K7: M | L7: M
C8: 3 | D8: 3 | E8: Procedimento disciplinare (U.P.D.) | F8: A | G8: A | H8: A | I8: B | J8: A | K8: A | L8: A
B9: RECLUTAMENTO DEL PERSONALE | C9: 4 | D9: 4 | E9: Assunzione figure dirigenziali a tempo determinato con procedura semplificata (art. 110 TUEL) | F9: A | G9: A | H9: B | I9: B | J9: B | K9: B | L9: M
C10: 5 | D10: 5 | E10: Assunzione di personale a tempo indeterminato e determinato mediante pubblica selezione | F10: A | G10: A | H10: M | I10: B | J10: M | K10: B | L10: M
C11: 6 | D11: 6 | E11: Assunzioni tramite agenzia di lavoro interinale | F11: A | G11: A | H11: B | I11: B | J11: B | K11: B | L11: M
C12: 7 | D12: 7 | E12: Selezioni da centro per l'impiego per i profili di Operatori/Esperti per i quali è richiesto il solo requisito della scuola dell'obbligo | F12: A | G12: M | H12: B | I12: B | J12: B | K12: B | L12: M
B13: GESTIONE DEL PERSONALE | C13: 8 | D13: 8 | E13: Trasformazione del rapporto di lavoro a tempo parziale | F13: A | G13: A | H13: B | I13: B | J13: B | K13: B | L13: M
C14: 9 | D14: 9 | E14: Mobilità interna intersettoriale | F14: A | G14: A | H14: B | I14: B | J14: B | K14: B | L14: M
C15: 10 | D15: 10 | E15: Stipendi-Paghe-Denunce collegate | F15: A | G15: B | H15: B | I15: B | J15: B | K15: B | L15: B
C16: 11 | D16: 11 | E16: Contrattazione decentrata | F16: A | G16: M | H16: B | I16: B | J16: B | K16: B | L16: B
B17: PROGRESSIONI DI CARRIERA | C17: 12 | D17: 12 | E17: Selezione per l'attribuzione di progressioni economiche orizzontali o di carriera | F17: A | G17: M | H17: B | I17: B | J17: B | K17: B | L17: B
B18: RECLUTAMENTO DEL PERSONALE | C18: 13 | D18: 13 | E18: Selezione per mobilità esterna | F18: A | G18: M | H18: B | I18: B | J18: M | K18: B | L18: M
A19: CONTRATTI PUBBLICI | B19: PROGRAMMAZIONE | C19: 14 | D19: 1 | E19: Individuazione del Fabbisogno | F19: A | G19: A | H19: B | I19: B | J19: B | K19: B | L19: =IF(AH19<8,"B",((IF(AH19>14,"A","M")))) -> B
B20: PROGETTAZIONE | C20: 15 | D20: 2 | E20: PREDISPOSIZIONE DEGLI ATTI DI GARA | F20: B | G20: A | H20: B | I20: B | J20: B | K20: B | L20: B
B21: AFFIDAMENTO DEI LAVORI SERVIZI E FORNITURE | C21: 16 | D21: 3 | E21: SELEZIONE DEL CONTRAENTE | F21: A | G21: A | H21: B | I21: M | J21: B | K21: B | L21: M
C22: 17 | D22: 4 | E22: AGGIUDICAZIONE | F22: A | G22: M | H22: B | I22: M | J22: B | K22: B | L22: B
B23: ESECUZIONE DEL CONTRATTO | C23: 18 | D23: 5 | E23: VERIFICA IN CORSO DI ESECUZIONE | F23: A | G23: A | H23: B | I23: M | J23: B | K23: B | L23: M
C24: 19 | D24: 6 | E24: COLLAUDO | F24: A | G24: A | H24: A | I24: A | J24: A | K24: A | L24: M
C25: 20 | D25: 7 | E25: Redazione del Cronoprogramma | F25: M | G25: B | H25: B | I25: B | J25: B | K25: B | L25: B
B26: SELEZIONE DEL CONTRAENTE | C26: 21 | D26: 8 | E26: Nomina della Commissione giudicatrice e valutazione delle offerte | F26: M | G26: A | H26: B | I26: B | J26: B | K26: B | L26: M
C27: 22 | D27: 9 | E27: Verifica dela eventuale anomalia delle Offerte | F27: B | G27: M | H27: B | I27: B | J27: B | K27: B | L27: B
C28: 23 | D28: 10 | E28: Revoca del Bando | F28: M | G28: M | H28: B | I28: B | J28: B | K28: B | L28: M
B29: ALTRE PROCEDURE DI AFFIDAMENTO | C29: 24 | D29: 11 | E29: PROCEDURE NEGOZIATE SOTTO SOGLIA D. LGS 36/2023 | F29: A | G29: A | H29: B | I29: B | J29: B | K29: B | L29: M
C30: 25 | D30: 12 | E30: Procedure speciali (project financing) | F30: A | G30: A | H30: B | I30: B | J30: B | K30: B | L30: M
C31: 26 | D31: 13 | E31: Adesioni convenzioni Consip e soggetti aggregatori Regione Sardegna | F31: A | G31: A | H31: B | I31: B | J31: B | K31: B | L31: M
C32: 27 | D32: 14 | E32: AFFIDAMENTI DIRETTI Art. 50 D. Lgs. 36/2023 appalti di servizi e forniture di importo fino a 140 mila € e lavori fino a 150 mila € | F32: A | G32: A | H32: B | I32: B | J32: B | K32: B | L32: M
B33: VERIFICA AGGIUDICAZIONE E STIPULA DEL CONTRATTO | C33: 28 | D33: 15 | E33: Verifica dei requisiti. Comunicazioni riguardanti i le esclusioni e le aggiudicazioni. Formalizzazione dell’aggiudicazione definitiva. Stipula del contratto. | F33: M | G33: B | H33: B | I33: B | J33: B | K33: B | L33: B
B34: ESECUZIONE DEL CONTRATTO | C34: 29 | D34: 16 | E34: Varianti in corso di esecuzione al Contratto | F34: A | G34: M | H34: B | I34: B | J34: B | K34: B | L34: M
C35: 30 | D35: 17 | E35: Subappalto | F35: A | G35: B | H35: B | I35: B | J35: B | K35: B | L35: B
C36: 31 | D36: 18 | E36: ATTRIBUZIONE POTERI SOSTITUTIVI (PNRR | F36: M | G36: B | H36: B | I36: B | J36: B | K36: B | L36: B
C37: 32 | D37: 19 | E37: Controlli sulla regolare esecuzione del contratto | F37: A | G37: A | H37: B | I37: B | J37: B | K37: B | L37: M
C38: 33 | D38: 20 | E38: Controlli su accordi quadro e affidamenti continuativi (pulizie, guardiania, manutenzioni) | F38: A | G38: M | H38: B | I38: B | J38: B | K38: B | L38: M
C39: 34 | D39: 21 | E39: Patologia dell'esecuzione: corretta applicazione istituti a garanzia (penali, recessi..) | F39: A | G39: A | H39: B | I39: B | J39: B | K39: B | L39: M
C40: 35 | D40: 22 | E40: Utilizzo di rimedi di risoluzione delle controversie alternativi a quelle giurisdizionali | F40: A | G40: M | H40: B | I40: B | J40: B | K40: B | L40: M
...

Sheet Misure Generali
A1: PROGRAMMAZIONE E MONITORAGGIO MISURE GENERALI (Cfr. PNA 2019 §§ 5.1. e 5.2.)
A2: MISURA GENERALE | B2: STATO DI ATTUAZIONE al 31.01.2024 ALERT---> indicare se la misura è ATTUATA, NON ATTUATA, IN ATTUAZIONE | C2: FASI E TEMPI DI ATTUAZIONE | D2: INDICATORI DI ATTUAZIONE | E2: SOGGETTO RESPONSABILE | F2: MONITORAGGIO SUL TRIENNIO | G2: FREQUENZA DEL MONITORAGGIO ALERT ---> Il monitoraggio delle misure generali va fatto su tutte le misure concentrando l’attenzione prioritariamente su quelle misure rispetto alle quali sono emerse criticità dalla relazione annuale RPCT (cfr. PNA 2022, § 10.2.1.) | H2: Opzioni per il MONITORAGGIO | I2: NOTE ALERT ---> RIPORTARE CRITICITà O DIFFICOLTà RISCONTRATE NELL'ATTUAZIONE E LE INIZIATIVE CHE SI INTENDONO ASSUMERE PER SUPERARLE
A3: Codice di comportamento | B3: ATTUATA | C3: Adozione/Aggiornamento del Codice di comportamento alla luce del d.P.R. n. 62/2013 e delle Linee guida A.N.AC. | D3: Approvazione del Codice di comportamento | E3: RPCT/SG/RESPONSABILI | F3: ogni anno | G3: Annuale | H3: Approvato Non Approvato | I3: (Il campo da compilare è libero e si apre in caso di flag dell'opzione "Non approvato")
B4: ATTUATA | C4: Relazione all'organo di indirizzo ed al vertice amministrativo in merito alle eventuali violazioni del codice rilevate e/o segnalate | D4: N. violazioni rilevate e/o segnalate | E4: ALERT--->SELEZIONARE UNA O Più OPZIONI | F4: ogni anno | G4: Annuale | H4: 0 1 >1 | I4: (Il campo da compilare è libero e si apre in caso di flag delle opzioni 1 e >1)
B5: ATTUATA | C5: Consegna di copia del Codice di comportamento al personale neo assunto | D5: N. di personale al quale è stata consegnata copia del Codice/totale personale neo assunto | F5: ogni anno | G5: Annuale | H5: 80%-100% <80% | I5: (Il campo da compilare è libero e si apre in caso di flag dell'opzione "<80%")
A6: Autorizzazioni incarichi extra-istituzionali | B6: ATTUATA | C6: Adozione/Aggiornamento regolamento o altro atto interno di disciplina | D6: Approvazione del regolamento o altro atto interno | E6: RPCT/SG/RESPONSABILI | F6: ogni anno | G6: Annuale | H6: Approvato Non Approvato | I6: (Il campo da compilare è libero e si apre in caso di flag dell'opzione "Non approvato")
B7: ATTUATA | C7: Rilascio delle autorizzazioni | D7: Numero di autorizzazioni richieste/numero autorizzazioni rilasciate | F7: ogni anno | G7: Annuale | H7: 80%-100% <80% | I7: (Il campo da compilare è libero e si apre in caso di flag dell'opzione "<80%")
B8: ATTUATA | C8: Relazione all'organo di indirizzo ed al vertice amministrativo in merito a eventuali incarichi svolti in assenza di autorizzazione | D8: Numero di violazioni rilevate e/o segnalate | F8: ogni anno | G8: Annuale | H8: 0 1 >1 | I8: (Il campo da compilare è libero e si apre in caso di flag delle opzioni 1 e >1)
A9: Conflitti d'interesse | B9: ATTUATA | C9: Acquisizione e verifica delle dichiarazioni di assenza di conflitti d'interesse rese dal personale neo assunto o assegnato a un nuovo incarico ovvero rilasciate da consulenti e collaboratori | D9: Numero di dichiarazioni verificate su numero di personale neo assunto e assegnato a un nuovo incarico | E9: RPCT/SG/RESPONSABILI | F9: ogni anno | G9: Annuale | H9: 80%-100% <80% | I9: (Il campo da compilare è libero e si apre in caso di flag dell'opzione "<80%")
B10: ATTUATA | C10: Acquisizione e verifica delle dichiarazioni di assenza di conflitti d'interesse rese dal personale o da consulenti e collaboratori in caso di sopravvenienze | D10: Numero di dichiarazioni acquisite su numero di dichiarazioni verificate | F10: ogni anno | G10: Annuale | H10: 80%-100% <80% | I10: (Il campo da compilare è libero e si apre in caso di flag dell'opzione "<80%")
B11: ATTUATA | C11: Attestazioni di assenza di situazioni di conflitto d'interesse nel corpo del provvedimento amministrativo | D11: Numero di attestazioni su numero di provvedimenti adottati | F11: ogni anno | G11: Annuale | H11: 80%-100% <80% | I11: (Il campo da compilare è libero e si apre in caso di flag dell'opzione "<100%")
A12: Formazione | B12: ATTUATA | C12: Svolgimento dei corsi di formazione | D12: N. di corsi svolti | E12: RPCT/SG/RESPONSABILI | F12: ogni anno | G12: Annuale | H12: 0 1 >1 | I12: (Il campo da compilare è libero e si apre in caso di flag dell'opzione 0)
A13: Whistleblower | B13: ATTUATA | C13: Meccanismi idonei per garantire anonimato e tutle dei segnalanti | D13: Adozione di meccanismi idonei a garantire la tutela dei whistleblowers | E13: RPCT/SG/RESPONSABILE RISORSE UMANE/ALTRO | F13: ogni anno | G13: Annuale | H13: Approvato Non Approvato | I13: (Il campo da compilare è libero e si apre in caso di flag dell'opzione "Non adottati")
B14: IN FASE DI ATTUAZIONE | C14: Acquisizione e trattazione delle segnalazioni | D14: N. di segnalazioni pervenute su n. di segnalazioni trattate | F14: ogni anno | G14: Annuale | H14: 80%-100% <80% | I14: (Il campo da compilare è libero e si apre in caso di flag dell'opzione "<80%")
A15: Misure alternative alla rotazione | B15: ATTUATA | C15: Condivisione delle fasi procedimentali, | D15: Numero di procedimenti condivisi/sul totale | E15: RPCT/SG/RESPONSABILI | F15: ogni anno | G15: Annuale | H15: 80%-100% <80% | I15: (Il campo da compilare è libero e si apre in caso di flag dell'opzione "<80%")
B16: ATTUATA | C16: Rotazione funzionale all'interno del medesimo ufficio | D16: Numero di funzioni ruotate/sul totale | G16: Annuale | H16: 80%-100% <80% | I16: (Il campo da compilare è libero e si apre in caso di flag dell'opzione "<80%")
B17: ATTUATA | C17: "Doppia sottoscrizione” degli atti | D17: Numero di atti con doppia sottoscrizione/sul totale | G17: Annuale | H17: 80%-100% <80% | I17: (Il campo da compilare è libero e si apre in caso di flag dell'opzione "<80%")
A18: Inconferibilità/incompatibilità (SG e EQ) | B18: ATTUATA | C18: Acquisizione delle dichiarazioni sull'insussistenza di situazioni di inconferibilità | D18: n. di dichiarazioni acquisite/sul totate delle funzioni dirigenziali attribuite | E18: RPCT/SG/ | F18: ogni anno | G18: Annuale | H18: 80%-100% <80% | I18: (Il campo da compilare è libero e si apre in caso di flag dell'opzione "<80%")
B19: ATTUATA | C19: Acquisizione delle dichiarazioni sull'insussistenza di situazioni di incompatibilità | D19: n. di dichiarazioni acquisite/sul totate dei soggetti con funzioni dirigenziali | F19: ogni anno | G19: Annuale | H19: 80%-100% <80%
B20: ATTUATA | C20: Verifica dei precedenti penali | D20: n. di soggetti per i quali sono stati acquisiti i certificati del casellario giudiziale | F20: ogni anno | G20: Annuale | H20: 0 1 >1 | I20: (Il campo da compilare è libero e si apre in caso di flag dell'opzione 0)
A21: Divieto di pantouflage (art. 53, comma 16 ter, d.lgs. n. 165/2001) | B21: ATTUATA | C21: Acquisizione delle dichiarazioni di pantouflage rese dal personale cessato dal servizio nel corso dell’anno | D21: Numero di dichiarazioni acquisite sul numero di dipendenti cessati dal servizio | E21: RPCT/SG/RESPONSABILE RISORSE UMANE/ALTRO | F21: ogni anno | G21: Annuale | H21: 80%-100% <80% | I21: (Il campo da compilare è libero e si apre in caso di flag dell'opzione "<80%")
A22: Patti di integrità | B22: ATTUATA | C22: Adozione/aggiornamento di uno schema standard di patto d'integrità | D22: Approvazione dello schema | E22: RPCT/SG/RESPONSABILE RISORSE UMANE/ALTRO | F22: ogni anno | G22: Annuale | H22: Approvato Non Approvato | I22: (Il campo da compilare è libero e si apre in caso di flag dell'opzione "Non approvato")
B23: ATTUATA | C23: Applicazione dei patti d'integrità a tutte le procedure di gara | D23: N. di patti d'integrità sottoscritti su n. partecipanti alle procedure di gara | E23: RPCT/SG/RESPONSABILI | F23: ogni anno | G23: Annuale | H23: 80%-100% <80% | I23: (Il campo da compilare è libero e si apre in caso di flag dell'opzione "<80%")
A24: RASA | B24: ATTUATA | C24: Verifica periodica dei dati inseriti in AUSA | D24: Inserimento/aggiornamento dei dati in AUSA | E24: RESPONSABILE | F24: ogni anno | G24: Annuale | H24: Sì No | I24: (Il campo da compilare è libero e si apre in caso di flag dell'opzione "No")
A25: Commissioni di gara e di concorso | B25: ATTUATA | C25: Acquisizione di una dichiarazione attestante l'insussistenza delle condizioni indicate dall'art. 35 bis d.lgs. N. 165/2001 all'atto del conferimento dell'incarico | D25: numero di dichiarazioni verificate/numero di incarichi conferiti soggetti all'art. 35 bis d.lgs. N. 165/2001 | F25: ogni anno | G25: Annuale | H25: 80%-100% <80% | I25: (Il campo da compilare è libero e si apre in caso di flag dell'opzione "<80%")
E26: RPCT/SG/RESPONSABILI
A27: Monitoraggio dei tempi procedimentali. | B27: ATTUATA | C27: Aggiornamento della mappatura dei procedimenti in caso di modifiche organizzative e funzionali | D27: Approvazione delle nuova mappatura dall'organo titolare di indirizzo politico | E27: RPCT/SG/RESPONSABILI | F27: ogni anno | G27: Annuale | H27: Approvato Non Approvato | I27: (Il campo da compilare è libero e si apre in caso di flag dell'opzione "Non approvato")
B28: ATTUATA | C28: Misurazione dei tempi effettivi di conclusione dei procedimenti amministrativi di maggiore impatto per i cittadini e per le imprese, comparati con i termini previsti dalla normativa vigente | D28: Misurazione/Pubblicazione dei tempi effettivi di conclusione dei procedimenti | E28: RPCT/SG/RESPONSABILI | F28: ogni anno | G28: Annuale | H28: Sì No | I28: (Il campo da compilare è libero e si apre in caso di flag dell'opzione "No")
A29: Rotazione straordinaria | B29: ATTUATA | C29: Adozione - al momento del procedimento penale - di provvedimento, adeguatamente motivato, di valutazione della condotta del dipendente, ai fini dell’eventuale applicazione della misura | D29: Valutazione svolta per ogni avvio di procedimento penale del dipendente per i reati presupposto indicati dalla norma | E29: RPCT/SG/RESPONSABILI | F29: ogni anno | G29: Annuale | H29: Sì No | I29: (Il campo da compilare è libero e si apre in caso di flag dell'opzione "No")
B30: ATTUATA | C30: Previsione nel codice di comportamento dell’obbligo per i dipendenti di comunicare all’amministrazione la sussistenza nei propri confronti di provvedimenti di rinvio a giudizio | D30: inserimento della previsione nel codice di comportamento | F30: ogni anno | G30: Annuale | H30: Sì No | I30: (Il campo da compilare è libero e si apre in caso di flag dell'opzione "No")

Sheet Valutaz Rischio ENTE
A1: COMUNE DI PALAU | E1: Allegato PIANO DEI RISCHI sezione 2.3 del PIAO 2025/2027
E2: INDICATORI DI STIMA DEL LIVELLO DI RISCHIO (rielaborazione di indicatori proposti da ANAC)
O3: IMPATTO | T3: VALUTAZIONE COMPLESSIVA DEL RISCHIO
E4: Interessi esterni | F4: Discrezionalità del decisore interno | G4: Eventi corruttivi passati | H4: Opacità del processo | I4: Grado attuazione misure | J4: Coerenza operativa: | K4: Segnalazioni, reclami pervenuti | L4: Presenza di gravi rilievi a seguito dei controlli interni di regolarità amministrativa | M4: Impatto sull’immagine dell’Ente | N4: TOTALE PROBABILITA' | O4: Impatto sull’immagine dell’Ente | P4: Impatto in termini di contenzioso | Q4: Impatto organizzativo e/o sulla continuità del servizio | R4: Danno generato | S4: TOTALE IMPATTO | U4: NOTE
A5: AREA DI RISCHIO | B5: PROCESSI | C5: ATTIVITA' | D5: EVENTI CORRUTTIVI
A6: CONTRATTI PUBBLICI | B6: Programmazione | C6: Individuazione del Fabbisogno | E6: M | F6: A | G6: B | H6: B | I6: B | J6: B | K6: B | L6: B | M6: B | N6: B | O6: B | P6: B | Q6: M | R6: B | S6: B | T6: B
B7: Progettazione | C7: Predisposizione degli atti di gara | E7: A | F7: A | G7: B | H7: B | I7: M | J7: B | K7: B | L7: B | M7: B | N7: M | O7: M | P7: B | Q7: M | R7: B | S7: M | T7: M
B8: Affidamento di lavori, servizi e forniture | C8: Selezione del contraente | E8: A | F8: A | G8: B | H8: B | I8: B | J8: M | K8: B | L8: B | M8: B | N8: M | O8: M | P8: B | Q8: B | R8: B | S8: B | T8: M
C9: Aggiudicazione | E9: A | F9: M | G9: M | H9: B | I9: M | J9: B | K9: B | L9: B | M9: M | N9: M | O9: M | P9: B | Q9: B | R9: B | S9: B | T9: M
B10: Esecuzione del contratto | C10: Verifica in corso di esecuzione | E10: A | F10: A | G10: B | H10: M | I10: M | J10: M | K10: M | L10: M | M10: M | N10: M | O10: M | P10: A | Q10: M | R10: M | S10: M | T10: M
C11: Collaudo | E11: A | F11: M | G11: B | H11: B | I11: M | J11: B | K11: B | L11: M | M11: B | N11: M | O11: M | P11: M | Q11: B | R11: B | S11: M | T11: M
A12: CONTRIBUTI, SOVVENZIONI E ALTRE EROGAZIONI LIBERALI | B12: Attribuzione di vantaggi economici diretti a seguito di bando | C12: Attribuzione di vantaggi economici diretti a seguito di bando | E12: A | F12: A | G12: B | H12: M | I12: M | J12: M | K12: B | L12: M | M12: M | N12: A | O12: A | P12: B | Q12: B | R12: M | S12: M | T12: M
B13: Erogazone di prestazioni assistenziali | C13: Erogazone di prestazioni assistenziali | E13: A | F13: M | G13: B | H13: M | I13: M | J13: M | K13: B | L13: B | M13: M | N13: M | O13: M | P13: B | Q13: B | R13: B | S13: M | T13: M
B14: Assegnazione di alloggi di edilizia sociale | C14: Assegnazione di alloggi di edilizia sociale | E14: A | F14: M | G14: M | H14: M | I14: M | J14: M | K14: M | L14: B | M14: M | N14: A | O14: A | P14: A | Q14: M | R14: A | S14: A | T14: M
B15: Ammissione ai servizi educativi (asilo nido e scuola infanzia) | C15: Ammissione ai servizi educativi | E15: A | F15: A | G15: M | H15: M | I15: M | J15: M | K15: M | L15: B | M15: M | N15: A | O15: A | P15: M | Q15: M | R15: B | S15: M | T15: M
A16: CONCORSI E PROVE SELETTIVE | B16: Concorso per l'assunzione di personale | C16: Programmazione dell'assunzione/fabbisogni del personale | E16: M | F16: M | G16: B | H16: B | I16: M | J16: M | K16: B | L16: B | M16: B | N16: M | O16: B | P16: B | Q16: B | R16: B | S16: B | T16: M
C17: Predisposizione del bando di concorso e/o avvisi di selezione | E17: M | F17: A | G17: B | H17: M | I17: M | J17: M | K17: B | L17: B | M17: M | N17: A | O17: B | P17: M | Q17: A | R17: B | S17: M | T17: M
C18: Nomina Commissione esaminatrice | E18: A | F18: A | G18: B | H18: B | I18: M | J18: B | K18: B | L18: B | M18: B | N18: M | O18: A | P18: M | Q18: M | R18: A | S18: A | T18: M
C19: Svolgimento delle prove concorsuali e valutazione dei titoli | E19: A | F19: M | G19: B | H19: B | I19: M | J19: B | K19: B | L19: B | M19: B | N19: M | O19: A | P19: M | Q19: M | R19: A | S19: A | T19: M
C20: Approvazione della gradutoria | E20: A | F20: M | G20: B | H20: B | I20: M | J20: B | K20: B | L20: B | M20: B | N20: M | O20: A | P20: M | Q20: M | R20: A | S20: A | T20: M
B21: Attingimento da graduatoria di altri Enti | C21: Attingimento da graduatoria di altri Enti | E21: A | F21: M | G21: B | H21: M | I21: M | J21: M | K21: A | L21: B | M21: B | N21: A | O21: A | P21: A | Q21: M | R21: A | S21: A | T21: M
B22: Mobilità volontaria | C22: Mobilità volontaria | E22: M | F22: A | G22: B | H22: M | I22: M | J22: M | K22: A | L22: B | M22: B | N22: A | O22: B | P22: M | Q22: A | R22: B | S22: M | T22: M
B23: Assunzioni ex art. 110 TUEL, ex art. 90 TUEL, assunzioni stagionali di personale (es. polizia locale) | C23: Assunzioni ex art. 110 TUEL, ex art. 90 TUEL, assunzioni stagionali di personale (es. polizia locale) | E23: M | F23: A | G23: B | H23: M | I23: M | J23: M | K23: A | L23: B | M23: B | N23: A | O23: B | P23: M | Q23: A | R23: B | S23: M | T23: M
B24: Progressioni di carriera | C24: Progressioni di carriera verticali | E24: M | F24: M | G24: B | H24: B | I24: M | J24: B | K24: B | L24: B | M24: B | N24: M | O24: M | P24: B | Q24: B | R24: M | S24: M | T24: M
C25: Progressioni di carriera orizzontali | E25: B | F25: B | G25: B | H25: B | I25: M | J25: B | K25: B | L25: B | M25: B | N25: B | O25: B | P25: B | Q25: B | R25: B | S25: B | T25: B
A26: AUTORIZZAZIONI E CONCESSIONI | B26: Rilascio di permessi di costruire, autorizzazioni edilizie (anche in sanatoria), certificati di agibilità, certificati di destinazione urbanistica (CDU), SCIA edilizia | C26: Rilascio di permessi di costruire, autorizzazioni edilizie (anche in sanatoria), certificati di agibilità, certificati di destinazione urbanistica (CDU), SCIA edilizia | E26: M | F26: B | G26: B | H26: B | I26: M | J26: M | K26: B | L26: B | M26: B | N26: M | O26: B | P26: B | Q26: M | R26: B | S26: B | T26: B
B27: Stipula convenzione urbanistica | C27: Stipula convenzione urbanistica | E27: A | F27: B | G27: B | H27: B | I27: M | J27: M | K27: B | L27: B | M27: B | N27: M | O27: B | P27: B | Q27: M | R27: B | S27: B | T27: B
B28: Rilascio autorizzazione paesaggistica | C28: Rilascio autorizzazione paesaggistica | E28: A | F28: B | G28: B | H28: B | I28: M | J28: A | K28: B | L28: B | M28: B | N28: M | O28: B | P28: B | Q28: M | R28: M | S28: M | T28: M
B29: Rilascio licenza attività commerciali | C29: Rilascio licenza attività commerciali | E29: M | F29: B | G29: B | H29: M | I29: M | J29: B | K29: B | L29: B | M29: B | N29: M | O29: B | P29: B | Q29: B | R29: M | S29: B | T29: B
B30: Rilascio autorizzazione al funzionamento di strutture sanitarie/strutture mediche private | C30: Rilascio autorizzazione al funzionamento di strutture sanitarie/strutture mediche private | E30: A | F30: B | G30: B | H30: B | I30: M | J30: A | K30: B | L30: B | M30: B | N30: M | O30: B | P30: B | Q30: M | R30: M | S30: M | T30: M
B31: Rilascio licenze e autorizzazioni di pubblica sicurezza | C31: Rilascio licenze e autorizzazioni di pubblica sicurezza | E31: M | F31: B | G31: B | H31: M | I31: M | J31: B | K31: B | L31: B | M31: B | N31: M | O31: B | P31: B | Q31: B | R31: M | S31: B | T31: B
B32: Rilascio di nulla osta e/o altre autorizzazione e/o licenza e/o concessione di competenza dell'Amministrazione comunale | C32: Rilascio di nulla osta e/o altre autorizzazione e/o licenza e/o concessione di competenza dell'Amministrazione comunale | E32: A | F32: A | G32: B | H32: B | I32: M | J32: B | K32: B | L32: B | M32: B | N32: M | O32: B | P32: B | Q32: B | R32: B | S32: B | T32: B
A33: CONTROLLI VERIFICHE ISPEZIONI SANZIONI | B33: CONTROLLI VERIFICHE ISPEZIONI SANZIONI | C33: Attività di controllo gestione rifiuti abbandonati o pericolosi | E33: M | F33: A | G33: B | I33: M | K33: B | L33: B | M33: B | T33: M
C34: Attività sanzionatorie, ablative o restrittive di diritti (multe, ammende, sanzioni,) | E34: M | F34: A | G34: B | I34: M | K34: B | L34: B | M34: B | T34: M
C35: Ricorsi ai verbali codice della strada | E35: A | F35: A | G35: B | I35: M | K35: B | L35: B | M35: B | T35: M
C36: Risposte rilascio atti su segnalazioni codice della strada | E36: M | F36: B | G36: B | I36: M | K36: B | L36: B | M36: B | T36: M
C37: Controlli sull'abusivismo edilizio | E37: A | F37: A | G37: B | I37: M | K37: B | L37: B | M37: B | T37: M
C38: Controlli commerciali | E38: A | F38: A | G38: B | I38: M | K38: B | L38: B | M38: B | T38: M
C39: Segnalazioni certificate di agibilità | E39: A | F39: M | G39: B | I39: M | K39: B | L39: B | M39: B | T39: M
C40: Ammissioni a servizi/benefici erogati dall’ente all'utenza (tesserini, parcheggi invalidi, ecc.) | E40: A | F40: M | G40: B | I40: M | K40: B | L40: B | M40: B | T40: M
...

Sheet CONTRATTI PUBBLICI
A1: AREA DI RISCHIO: CONTRATTI PUBBLICI
A2: Mappatura PROCESSI - ATTIVITA' | C2: REGISTRO RISCHI: Identificazione, analisi e valutazione del rischio corruttivo | E2: Trattamento del Rischio | K2: Monitoraggio
A3: PROCESSI | B3: ATTIVITA' | C3: EVENTI RISCHIOSI | D3: VALUTAZIONE COMPLESSIVA DEL RISCHIO | E3: MISURE SPECIFICHE IN ESSERE | F3: MISURE GENERALI E SPECIFICHE DA ATTUARE | G3: TEMPI DI ATTUAZIONE | H3: INDICATORI DI ATTUAZIONE | I3: TARGET | J3: SOGGETTO RESPONSABILE DELLA MISURA | K3: PROGRAMMAZIONE DEL MONITORAGGIO V. § 5.1 e § 5.2 del PNA 2022. | L3: FREQUENZA DEL MONITORAGGIO V. § 5.1 e § 5.2 del PNA 2022. | M3: MONITORAGGIO (STATO di ATTUAZIONE MISURE) | N3: NOTE in caso di criticità nel monitoraggio
A4: PROGRAMMAZIONE | B4: INDIVIDUAZIONE DEL FABBISOGNO | C4: 1. Alterazioni nella definizione dei fabbisogni per premiare interessi particolari 2. Alterazioni nella definizione dei fabbisogni al fine di configurare motivi a sostegno di affidamenti diretti / procedure negoziate 3. Possibile alterazione dei valori stimati per gli affidamenti, con conseguente frazionamento, al fine di non superare le soglie di cui all'art. 14 del dl.vo 36/2023 o del valore stimato e/o frazionamento della concessione effettuata con l’intenzione di escludere tale concessione dall’ambito di applicazione del codice. | D4: ='Valutaz Rischio ENTE'!$T$6 -> B | E4: Audit interni su fabbisogno e/o adozione di procedure tracciate per la rilevazione dei fabbisogni (evento 1 e 2) | G4: ANNUALE | H4: n. di unità organizzative invitate al confronto/totale delle unità organizzative presenti | I4: >80 | J4: Tutti i Responsabili | K4: OGNI ANNO | L4: ANNUALE | M4: In alternativa: a) tra 80 e 100 % b) tra 50 e 80% c) tra 0 e 50% | N4: In caso di opzione B e C illustrare le criticità riscontrate e come si intende risolverle
D5: ='Valutaz Rischio ENTE'!$T$6 -> B | E5: Condivisione delle scelte di approvvigionamento con procedura formale (evento 1, 2, 3) | G5: ANNUALE | H5: n. di atti corredati dalla motivazione/totale atti adottati | I5: >80 | J5: Tutti i Responsabili | K5: OGNI ANNO | L5: ANNUALE | M5: In alternativa: a) tra 80 e 100 % b) tra 50 e 80% c) tra 0 e 50% | N5: In caso di opzione B e C illustrare le criticità riscontrate e come si intende risolverle
D6: ='Valutaz Rischio ENTE'!$T$6 -> B | E6: Predeterminazione dei criteri di priorità nell'individuazione dei fabbisogni (evento 1 e 2) | G6: ANNUALE | H6: Presenza di criteri predeterminati (si/no) | I6: Sì | J6: Tutti i Responsabili | K6: OGNI ANNO | L6: ANNUALE | M6: In alternativa: a) si b) no | N6: In caso di opzione B illustrare le criticità riscontrate e come si intende risolverle
D7: ='Valutaz Rischio ENTE'!$T$6 -> B | E7: Obbligo di documentare il calcolo del valore stimato del contratto ovvero della concessione da affidare (evento 3) | G7: ANNUALE | H7: n. di atti corredati dalla motivazione/totale atti adottati | I7: >80 | J7: Tutti i Responsabili | K7: OGNI ANNO | L7: ANNUALE | M7: In alternativa: a) tra 80 e 100 % b) tra 50 e 80% c) tra 0 e 50% | N7: In caso di opzione B e C illustrare le criticità riscontrate e come si intende risolverle
D8: ='Valutaz Rischio ENTE'!$T$6 -> B | E8: Programmazione annuale degli affidamenti diretti (eventi 1,2,3) | G8: ENTRO IL 31 GENNAIO DI OGNI ANNO | H8: Adozione di un programma annuale degli affidamenti diretti (SI/NO) | I8: Sì | J8: Tutti i Responsabili | K8: OGNI ANNO | L8: ANNUALE | M8: In alternativa: a) si b) no | N8: In caso di opzione B illustrare le criticità riscontrate e come si intende risolverle
A9: PROGETTAZIONE | B9: PREDISPOSIZIONE DEGLI ATTI DI GARA | C9: 1. Scelta della strategia di acquisizione in elusione delle regole di affidamento del contratto (ad esempio, concessione in luogo di appalto o procedure negoziate e affidamenti diretti tesi a selezionare uno specifico operatore, scelte tecniche finalizzate a restringere la concorrenza) 2. Artificioso allungamento dei tempi di progettazione della gara al fine di creare la condizione di urgenza . 3. Affidamenti diretti per estrema urgenza in mancanza dei presupposti di legge (Ad esempio quando l’estrema urgenza non deriva da eventi imprevedibili ed è invece imputabile alla stazione appaltante). 4. Rivelazione di informazioni riservate, tese a favorire operatori economici, in fase anticipata alla pubblicazione dei documenti di gara. 5.Gestione del conflitto di interessi in fase di progettazione dell'affidamento | D9: ='Valutaz Rischio ENTE'!$T$7 -> M | E9: Obbligo di motivazione sulla scelta del sistema di affidamento (in particolare in caso di affidamenti diretti per estrema urgenza) (evento 1, 2, 3) | G9: in occasione di ogni procedura | H9: n. di atti corredati dalla motivazione/totale atti adottati | I9: >80 | J9: RUP | K9: OGNI ANNO | L9: ANNUALE | M9: In alternativa: a) tra 80 e 100 % b) tra 50 e 80% c) tra 0 e 50% | N9: In caso di opzione B e C illustrare le criticità riscontrate e come si intende risolverle
D10: ='Valutaz Rischio ENTE'!$T$7 -> M | E10: Controllo periodico e monitoraggio dei tempi programmati anche mediante sistemi di controllo interno di gestione in ordine alle future scadenze contrattuali (evento 2, 3) | G10: ogni semestre | H10: n. contratti oggetto di monitoraggio/n. contratti in esecuzione | I10: >80 | J10: RUP | K10: OGNI ANNO | L10: ANNUALE | M10: In alternativa: a) tra 80 e 100 % b) tra 50 e 80% c) tra 0 e 50% | N10: In caso di opzione B e C illustrare le criticità riscontrate e come si intende risolverle
D11: ='Valutaz Rischio ENTE'!$T$7 -> M | E11: Sottoscrizione da parte dei soggetti coinvolti nella redazione della documentazione di gara di una dichiarazione di riservatezza sulla non divulgazione di informazioni inerenti la procedura (evento 4, 5) | G11: al momento dell'assegnazione del funzionario all'ufficio gare o all'ufficio diverso dall'ufficio gare che predispone la documentazione | H11: n. di dichiarazioni sulla riservatezza rilasciate/totale dei soggetti coinvolti nella redazione della documentazione di gara | I11: >80 | J11: RUP | K11: OGNI ANNO | L11: ANNUALE | M11: In alternativa: a) tra 80 e 100 % b) tra 50 e 80% c) tra 0 e 50% | N11: In caso di opzione B e C illustrare le criticità riscontrate e come si intende risolverle
D12: ='Valutaz Rischio ENTE'!$T$7 -> M | E12: Acquisizione dichiarazioni dei soggetti incaricatio della progettazione circa i rapporti di assiduità con operatori del settore di riferiferimento dell'affidamento. (evento 4, 5) | G12: al momento dell'assegnazione del funzionario all'ufficio gare o all'ufficio diverso dall'ufficio gare che predispone la documentazione | H12: n. dichiarazioni rilasciate/n. soggetti incaricati della progettazione | I12: >80 | J12: RUP | K12: OGNI ANNO | L12: ANNUALE | M12: In alternativa: a) tra 80 e 100 % b) tra 50 e 80% c) tra 0 e 50% | N12: In caso di opzione B e C illustrare le criticità riscontrate e come si intende risolverle
C13: 1. Ricorso a proroghe e rinnovi non consentiti e/o in assenza dei presupposti. 2. Ricorso a rinnovo tacito, ovvero il rinnovo effettuato senza emanazione di un provvedimento espresso, inammissibile nel nostro ordinamento 3. Ricorso a proroghe della concessione non giustificate e al di fuori dei casi in cui è consentita nei documenti di gara e per legge (art. 178 d.lgs. 36/2023) | D13: ='Valutaz Rischio ENTE'!$T$7 -> M | E13: Monitoraggio periodico delle scadenze contrattuali, con previsione di comunicazioni periodiche al RPCT (eventi 1,2,3) | G13: semestrale | H13: 1. n. di contratti oggetto di monitoraggio/n. di contratti in esecuzione | I13: >80 | J13: RUP | K13: OGNI ANNO | L13: ANNUALE | M13: In alternativa: a) tra 80 e 100 % b) tra 50 e 80% c) tra 0 e 50% | N13: In caso di opzione B e C illustrare le criticità riscontrate e come si intende risolverle
D14: ='Valutaz Rischio ENTE'!$T$7 -> M | E14: Espressa previsione dell'opzione di rinnovo nei documenti di gara con conseguente calcolo dell'importo a base di gara del contratto che comprenda anche il rinnovo (eventi 1,2) | G14: in occasione di ogni procedura | H14: n. di contratti recante l'opzione di rinnovo/totale contratti stipulati | I14: >80 | J14: RUP | K14: OGNI ANNO | L14: ANNUALE | M14: In alternativa: a) tra 80 e 100 % b) tra 50 e 80% c) tra 0 e 50% | N14: In caso di opzione B e C illustrare le criticità riscontrate e come si intende risolverle
D15: ='Valutaz Rischio ENTE'!$T$7 -> M | E15: Verifiche sulla esistenza di una adeguata motivazione per il ricorso a proroghe della concessione e sul rispetto dei presupposti di legge (evento 3) | G15: in occasione di ogni procedura | H15: verifiche sul rispetto dei presupposti di legge (si/no) | I15: Sì | J15: RUP | K15: OGNI ANNO | L15: ANNUALE | M15: In alternativa: a) si b) no | N15: In caso di opzione B illustrare le criticità riscontrate e come si intende risolverle
C16: 1. Fissazione di criteri di aggiudicazione da parte dell’ente concedente non pertinenti o inidonei all'oggetto della concessione. 2. Fissazione di requisiti discriminatori e sproporzionati all'oggetto della concessione e non correlati alla necessità di garantire la capacità del concessionario di eseguire la concessione. | D16: ='Valutaz Rischio ENTE'!$T$7 -> M | E16: Controlli incrociati a campione da parte di RUP e RPCT sui criteri fissati nella determina a contrarre, nel bando o atto equivalente | G16: a campione | H16: n. controlli sui criteri/n. procedure svolte | I16: >80 | J16: RUP | K16: OGNI ANNO | L16: ANNUALE | M16: In alternativa: a) tra 80 e 100 % b) tra 50 e 80% c) tra 0 e 50% | N16: In caso di opzione B e C illustrare le criticità riscontrate e come si intende risolverle
C17: Nel Project financing, disposizioni del bando che limitano la presentazione di offerte concorrenziali ulteriori rispetto a quella del promotoree con conseguente radicarsi di una posizione di monopolio di quest'ultimo (art. 183, comma 15 dlgs 36.2023) (CFr. Comunicato ANAC del 12 gennaio 2022) | D17: ='Valutaz Rischio ENTE'!$T$7 -> M | E17: 1. Valutazione circa l'introduzione di migliorie al progetto presentato dal promotore, da valutare con il criterio di aggiudicazione dell'OEV in modo da garantire maggiore competitività tra gli operatori | G17: in occasione di ogni procedura | H17: 1. migliorie apportate al progetto (si/no) | I17: Sì | J17: RUP | K17: OGNI ANNO | L17: ANNUALE | M17: In alternativa: a) si b) no | N17: In caso di opzione B illustrare le criticità riscontrate e come si intende risolverle
D18: ='Valutaz Rischio ENTE'!$T$7 -> M | E18: 2. Verifica dell'assolvimento degli obblighi di pubblicazione da parte del RPCT. | G18: in occasione di ogni procedura | H18: 2. verifiche svolte sull'assolvimento obblighi trasparenza (si/no) | I18: Sì | J18: RUP | K18: OGNI ANNO | L18: ANNUALE | M18: In alternativa: a) si b) no | N18: In caso di opzione B illustrare le criticità riscontrate e come si intende risolverle
C19: 1. Limitazione della concorrenza e agevolazione di determinati concorrenti mediante richiesta di requisiti di partecipazione o di requisiti tecnico-economici non giustificati e adeguati (es. clausole dei bandi che stabiliscono requisiti di qualificazione - cfr. Delibera ANAC n. 1142/2018). 2. Affidamenti diretti “per assenza di concorrenza per motivi tecnici” (da intendersi come esistenza nel mercato di un unico operatore economico grado di fornire la prestazione di cui la SA ha bisogno) svolti in mancanza dei presupposti 3. Predisposizione di clausole contrattuali dal contenuto vago o vessatorio per disincentivare la partecipazione alla gara ovvero per consentire modifiche in fase di esecuzione 4. Formulazione nel capitolato di criteri di valutazione dell'offerta tecnica ed economica tesa ad avvantaggiare un fornitore, ad esempio il fornitore uscente per il configurarsi di asimmetrie informative 5. Irregolarità commesse da CUC o altri enti terzi che affidano appalti e concessioni per conto dell'amministrazione | D19: ='Valutaz Rischio ENTE'!$T$7 -> M | E19: 1. Obbligo di motivazione negli atti di gara sui requisiti richiesti per la partecipazione alla gara / per l'esecuzione dell'appalto /criteri di valutazione e attribuzione di punteggi, con particolare riferimento alle ipotesi di affidamenti diretti "per assenza di concorrenza per motivi tecnici", anche attraverso la previa consultazione del mercato di riferimento, con verifica che tale assenza non sia frutto di limitazioni artificiose dei parametri dell’appalto, ovvero di errate interpretazioni della norma. (eventi 1,2,3,4) | G19: in occasione di ogni procedura | H19: 1. n. di atti corredati dalla motivazione/totale atti adottati | I19: >80 | J19: RUP | K19: OGNI ANNO | L19: ANNUALE | M19: In alternativa: a) tra 80 e 100 % b) tra 50 e 80% c) tra 0 e 50% | N19: In caso di opzione B e C illustrare le criticità riscontrate e come si intende risolverle
D20: ='Valutaz Rischio ENTE'!$T$7 -> M | E20: 2. Verifica in ordine agli atti di gara predisposti dall'ente terzo. (Evento 5) | G20: in occasione di ogni procedura | H20: 2. % atti di gara esaminati | I20: >80 | J20: RUP | K20: OGNI ANNO | L20: ANNUALE | M20: In alternativa: a) tra 80 e 100 % b) tra 50 e 80% c) tra 0 e 50% | N20: In caso di opzione B e C illustrare le criticità riscontrate e come si intende risolverle
A21: AFFIDAMENTO DI LAVORI, SERVIZI E FORNITURE | B21: SELEZIONE DEL CONTRAENTE | C21: Valutazione errata della congruità dell'offerta cause riconducibili, a mero titolo esemplificativo, a: - utilizzo di metodi impropri per l'attribuzione dei punteggi; - applicazione distorta dei suddetti criteri. | D21: ='Valutaz Rischio ENTE'!$T$8 -> M | E21: tracciabilità della motivazione nei verbali della commissione o dell'organo incaricato della valutazione dell'offerta. | G21: in occasione di ogni procedura | H21: n. di verbali corredati dalla motivazione/totale verbali redatti | I21: >80 | J21: RUP | K21: OGNI ANNO | L21: ANNUALE | M21: In alternativa: a) tra 80 e 100 % b) tra 50 e 80% c) tra 0 e 50% | N21: In caso di opzione B e C illustrare le criticità riscontrate e come si intende risolverle
C22: Mancata esclusione delle offerte anomale nelle ipotesi disciplinate dal'art. 54 dlgs. 36/2023 | D22: ='Valutaz Rischio ENTE'!$T$8 -> M | E22: tracciabilità della stima della soglia di anomalia nei verbali della commissione o dell'organo incaricato della valutazione dell'offerta. | G22: in occasione di ogni procedura | H22: n. di verbali contenenti la stima della soglia di anomalia/totale verbali redatti | I22: >80 | J22: RUP | K22: OGNI ANNO | L22: ANNUALE | M22: In alternativa: a) tra 80 e 100 % b) tra 50 e 80% c) tra 0 e 50% | N22: In caso di opzione B e C illustrare le criticità riscontrate e come si intende risolverle
C23: Irregolarità commesse da CUC o altri enti terzi che affidano appalti e concessioni per conto dell'amministrazione | D23: ='Valutaz Rischio ENTE'!$T$8 -> M | E23: esame dei verbali redatti dalla commissione di gara | G23: in occasione di ogni procedura | H23: % verbali esaminati | I23: >80 | J23: RUP | K23: OGNI ANNO | L23: ANNUALE | M23: In alternativa: a) tra 80 e 100 % b) tra 50 e 80% c) tra 0 e 50% | N23: In caso di opzione B e C illustrare le criticità riscontrate e come si intende risolverle
C24: Erronea gestione delle offerte anormalmente basse nelle ipotesi di cui all'art. 110 dlgs. 36/2023 | D24: ='Valutaz Rischio ENTE'!$T$8 -> M | E24: tracciabilità della valutazione delle giustificazioni (nei casi previsti) dell'offerta anomala con riferimento agli elementi specifici indicati nei documenti di gara. | G24: in occasione di ogni procedura | H24: Presenza della motivazione (si/no) | I24: Sì | J24: RUP | K24: OGNI ANNO | L24: ANNUALE | M24: In alternativa: a) si b) no | N24: In caso di opzione B illustrare le criticità riscontrate e come si intende risolverle
C25: Carenza in organico nei comuni con popolazione inferiore a cinquemila abitanti di figure idonee a ricoprire le funzioni di RUP o di responsabile di Area tecnica e affidamento di tali funzioni a titolari di incarichi politici ai sensi dell'art. 53, co. 23 l. 388/2000 (Delibera ANAC n.291/2023) | D25: ='Valutaz Rischio ENTE'!$T$8 -> M | E25: 1. Previsione della doppia firma sull’atto di aggiudicazione di un contratto pubblico nelle ipotesi in cui Sindaco o componente di Giunta svolga le funzioni di responsabile di ufficio Tecnico o RUP e ravvisi di trovarsi in una situazione di conflitto di interessi con riferimento a una specifica procedura | G25: in occasione di ogni procedura | H25: 1. n. di contratti con doppia firma/contratti siglati | I25: >80 | J25: RUP | K25: OGNI ANNO | L25: ANNUALE | M25: In alternativa: a) tra 80 e 100 % b) tra 50 e 80% c) tra 0 e 50% | N25: In caso di opzione B e C illustrare le criticità riscontrate e come si intende risolverle
D26: ='Valutaz Rischio ENTE'!$T$8 -> M | E26: 2. Rilascio di dichiarazione per ogni singola gara da parte del Sindaco o componente di Giunta nelle ipotesi in cui svolga le funzioni di responsabile di ufficio Tecnico o RUP | G26: in occasione di ogni procedura | H26: 2. n. dichiarazioni rilasciate/n. incarichi tecnici affidati a componenti organo d'indirizzo politico | I26: >80 | J26: RUP | K26: OGNI ANNO | L26: ANNUALE | M26: In alternativa: a) tra 80 e 100 % b) tra 50 e 80% c) tra 0 e 50% | N26: In caso di opzione B e C illustrare le criticità riscontrate e come si intende risolverle
D27: ='Valutaz Rischio ENTE'!$T$8 -> M | E27: 3. Rotazione tra i componenti della medesima Giunta dell'incarico di RUP | G27: in occasione di ogni procedura | H27: Applicazione della rotazione (si/no) | I27: Sì | J27: RUP | K27: OGNI ANNO | L27: ANNUALE | M27: In alternativa: a) si b) no | N27: In caso di opzione B illustrare le criticità riscontrate e come si intende risolverle
C28: Impossibilità di rotare il responsabile di Area tecnica per carenza in organico di altra figura idonea a ricoprire tali posizione | D28: ='Valutaz Rischio ENTE'!$T$8 -> M | E28: Condivisione delle informazioni relative allo stato della procedura con tutto il personale assegnato all'area tecnica nell'ambito di riunioni periodiche da calendarizzare preventivamente | G28: 1. in occasione di ogni procedura | H28: 1. n. di riunioni svolte/tiotale riunioni calendarizzate | I28: >80 | J28: RUP | K28: OGNI ANNO | L28: ANNUALE | M28: In alternativa: a) tra 80 e 100 % b) tra 50 e 80% c) tra 0 e 50% | N28: In caso di opzione B e C illustrare le criticità riscontrate e come si intende risolverle
D29: ='Valutaz Rischio ENTE'!$T$8 -> M | E29: Svolgimento delle attività da parte di almeno due risorse in caso di affidamenti sopra soglia | G29: 2. in occasione di ogni procedura al di sopra delle soglie comunitarie | H29: 2. assegnazione di almeno 2 risorse alle attività (si/no) | I29: Sì | J29: RUP | K29: OGNI ANNO | L29: ANNUALE | M29: In alternativa: a) si b) no | N29: In caso di opzione B illustrare le criticità riscontrate e come si intende risolverle
C30: Inadeguata gestione del conflitto di interessi nelle procedure di affidamento | D30: ='Valutaz Rischio ENTE'!$T$8 -> M | E30: Rilascio di dichiarazione al momento dell’assegnazione all’ufficio o dell’attribuzione dell’incarico ed ogni volta che ci si trovi in una situazione di conflitto di interessi, anche potenziale, rispetto alla specifica procedura di gara e alle circostanze conosciute. | G30: al momento dell'assegnazione all'ufficio o dell'attribuzione dell'incarico | H30: 1. Rilascio della dichiarazione (si/no) | I30: Sì | J30: RUP | K30: OGNI ANNO | L30: ANNUALE | M30: In alternativa: a) si b) no | N30: In caso di opzione B illustrare le criticità riscontrate e come si intende risolverle
D31: ='Valutaz Rischio ENTE'!$T$8 -> M | E31: Rilascio di dichiarazione per ogni singola gara da parte del RUP e dei commissari di gara. | G31: al momento dell'assegnazione all'ufficio o dell'attribuzione dell'incarico | H31: 2. n. di dichiarazioni rilasciate/n. RUP e Commissari nominati | I31: >80 | J31: RUP | K31: OGNI ANNO | L31: ANNUALE | M31: In alternativa: a) tra 80 e 100 % b) tra 50 e 80% c) tra 0 e 50% | N31: In caso di opzione B e C illustrare le criticità riscontrate e come si intende risolverle
D32: ='Valutaz Rischio ENTE'!$T$8 -> M | E32: Individuazione dei criteri di rotazione nella nomina del RUP. | G32: al momento dell'assegnazione all'ufficio o dell'attribuzione dell'incarico | H32: 3. Invividuazione dei criteri di rotazione (si/no) | I32: Sì | J32: RUP | K32: OGNI ANNO | L32: ANNUALE | M32: In alternativa: a) si b) no | N32: In caso di opzione B illustrare le criticità riscontrate e come si intende risolverle
D33: ='Valutaz Rischio ENTE'!$T$8 -> M | E33: Inserimento, nei protocolli di legalità e/o nei patti di integrità, di specifiche prescrizioni a carico dei concorrenti e dei soggetti affidatari, ai quali si richiede la preventiva dichiarazione della insussistenza di rapporti di parentela o di familiarità con i soggetti che hanno partecipato alla definizione della procedura di gara e la comunicazione di qualsiasi conflitto di interessi che insorga successivamente. | G33: al momento dell'assegnazione all'ufficio o dell'attribuzione dell'incarico | H33: 4. n. protocolli di legalità e/o patti di integrità in cui è inserito l'obbligo di dichiarazione/n. protocolli e patti siglati | I33: >80 | J33: RUP | K33: OGNI ANNO | L33: ANNUALE | M33: In alternativa: a) tra 80 e 100 % b) tra 50 e 80% c) tra 0 e 50% | N33: In caso di opzione B e C illustrare le criticità riscontrate e come si intende risolverle
D34: ='Valutaz Rischio ENTE'!$T$8 -> M | E34: Previsione, nei protocolli di legalità e/o nei patti di integrità, di sanzioni a carico dell’operatore economico, sia in veste di concorrente che di aggiudicatario, nel caso di violazione degli impegni sottoscritti, secondo la gravità della violazione accertata e la fase in cui la violazione è posta in essere, oltre che nel rispetto del principio di proporzionalità; | G34: al momento dell'assegnazione all'ufficio o dell'attribuzione dell'incarico | H34: 5. n. protocolli di legalità e/o patti di integrità in cui è stata prevista la sanzione/n. protocolli e patti siglati | I34: >80 | J34: RUP | K34: OGNI ANNO | L34: ANNUALE | M34: In alternativa: a) tra 80 e 100 % b) tra 50 e 80% c) tra 0 e 50% | N34: In caso di opzione B e C illustrare le criticità riscontrate e come si intende risolverle
C35: Creazione di accordi tra imprese che intervengono nella competizione al solo fine di presentare offerte artificiosamente basse, in modo da occupare tutti i posizionamenti anomali e consentire, all’impresa che si intende favorire, l’aggiudicazione dell’appalto a un prezzo leggermente al di sopra della soglia di anomalia così falsata. | D35: ='Valutaz Rischio ENTE'!$T$8 -> M | E35: Controlli a campione in fase di valutazione dell'anomalia alla luce delle indicazioni fornite da ANAC per l'ipotesi prevista dall'art. 95, comma 1, lett. d) dlgs 36/2023 | G35: ogni semestre | H35: n. procedure di valutazione delle offerte verificate/n. procedure di valutazione delle offerte svolte nel semestre di riferimento | I35: >80 | J35: RUP | K35: OGNI ANNO | L35: ANNUALE | M35: In alternativa: a) tra 80 e 100 % b) tra 50 e 80% c) tra 0 e 50% | N35: In caso di opzione B e C illustrare le criticità riscontrate e come si intende risolverle
D36: ='Valutaz Rischio ENTE'!$T$8 -> M | E36: Nel caso in cui sia ipotizzabile la sussistenza della fattispecie di cui all'art. 95, comma 1 let. d) dlgs 36/2023, adeguata formalizzazione nei verbali o in altro atto delle specifiche verifiche espletate per escludere la rilevanza degli indizi rilevati | G36: in occasione di ogni procedura in cui si ipotizzi la fattisepcie di cui all'art. 95 comma 1 let. d) dlgs 36/2023 | H36: Presenza formalizzazione verifiche nei verbali di gara (si/no) | I36: Sì | J36: RUP | K36: OGNI ANNO | L36: ANNUALE | M36: In alternativa: a) si b) no | N36: In caso di opzione B illustrare le criticità riscontrate e come si intende risolverle
C37: Affidamenti diretti ripetuti dei servizi di ingegneria o architettura al medesimo soggetto, iscritto in apposito albo/elenco tenuto dalla stazione appaltante che abbia rapporti di parentela o conoscenza con dipendenti dell'ufficio tecnico | D37: ='Valutaz Rischio ENTE'!$T$8 -> M | E37: Adozione di una direttiva, in base alla quale l’individuazione nell’ambito dell’elenco a disposizione della stazione appaltante avvenga sempre mediante sorteggio, fermo restando il rispetto del principio di rotazione. | G37: in occasione di ogni procedura di affidamento diretto di servizi di architettura e ingegneria | H37: 1. Adozione della direttiva (si/no) | I37: Sì | J37: RUP | K37: OGNI ANNO | L37: ANNUALE | M37: In alternativa: a) si b) no | N37: In caso di opzione B illustrare le criticità riscontrate e come si intende risolverle
D38: ='Valutaz Rischio ENTE'!$T$8 -> M | E38: Pubblicazione di avviso per manifestazione di interesse. | H38: Avvisi di minifestazioni d'interesse pubblicate/totale affidamenti diretti servizi di ingegneria e architettura | I38: >80 | J38: RUP | K38: OGNI ANNO | L38: ANNUALE | M38: In alternativa: a) tra 80 e 100 % b) tra 50 e 80% c) tra 0 e 50% | N38: In caso di opzione B e C illustrare le criticità riscontrate e come si intende risolverle
C39: Omessa motivazione o motivazione insufficiente in merito alle condizioni previste dall’art. 7 del d.lgs. 36/2023 per la legittimità dell’affidamento (ossia indicazione dei vantaggi per la collettività, delle connesse esternalità e della congruità economica della prestazione da affidare in house, anche in relazione al perseguimento di obiettivi di universalità, socialità, efficienza, economicità, qualità della prestazione, celerità del procedimento e razionale impiego di risorse pubbliche) | D39: ='Valutaz Rischio ENTE'!$T$8 -> M | E39: Obbligo di motivazione sul contesto concreto e attuale al momento dell'affidamento e in particolare sui lavori servizi e forniture offerti nel medesimo ambito territoriale, e sui prezzi medi praticati per le medesime prestazioni o per prestazioni analoghe. | G39: in occasione di ogni procedura con affidamento in house | H39: n. di affidamenti diretti motivati/totale affidamenti diretti | I39: >80 | J39: RUP | K39: OGNI ANNO | L39: ANNUALE | M39: In alternativa: a) tra 80 e 100 % b) tra 50 e 80% c) tra 0 e 50% | N39: In caso di opzione B e C illustrare le criticità riscontrate e come si intende risolverle
D40: ='Valutaz Rischio ENTE'!$T$8 -> M | E40: Programmazione annuale degli affidamenti diretti | G40: entro il 31 gennaio di ogni anno | H40: Adozione di un programma annuale degli affidamenti diretti (SI/NO) | I40: Sì | J40: RUP | K40: OGNI ANNO | L40: ANNUALE | M40: In alternativa: a) si b) no | N40: In caso di opzione B illustrare le criticità riscontrate e come si intende risolverle
...

Sheet CONCORSI E SELEZIONI
A1: AREA DI RISCHIO: CONCORSI E PROVE SELETTIVE
A2: Mappatura PROCESSI - ATTIVITA' | C2: REGISTRO RISCHI: Identificazione, analisi e valutazione del rischio corruttivo | E2: Trattamento del Rischio | K2: Monitoraggio
A3: PROCESSI | B3: ATTIVITA' | C3: EVENTI RISCHIOSI | D3: VALUTAZIONE COMPLESSIVA DEL RISCHIO | E3: MISURE SPECIFICHE IN ESSERE | F3: MISURE GENERALI E SPECIFICHE DA ATTUARE | G3: TEMPI DI ATTUAZIONE | H3: INDICATORI DI ATTUAZIONE | I3: TARGET | J3: SOGGETTO RESPONSABILE DELLA MISURA | K3: PROGRAMMAZIONE DEL MONITORAGGIO V. § 5.1 e § 5.2 del PNA 2022. | L3: FREQUENZA DEL MONITORAGGIO V. § 5.1 e § 5.2 del PNA 2022. | M3: MONITORAGGIO (STATO di ATTUAZIONE MISURE) | N3: NOTE in caso di criticità nel monitoraggio
A4: CONFERIMENTO DI INCARICHI EXTRA ISTITUZIONALI | B4: Gestione incarichi extra-istituzionali ai dipendenti | C4: Elusione delle procedure di svolgimento delle attività e di controllo Omissioni richiesta autorizzazione da parte del dipendente | D4: ='[1]Valutaz Rischio ENTE'!S6 -> B | E4: Definizione di una procedura per la presentazione della richiesta e il rilascio dell’autorizzazione, in cui sia prevista una black list di attività precluse - prevedere adeguata tempistica di preavviso per l'autorizzazione Controllo presenza di tutti i criteri per il rilascio autorizzazioni, con particolare riferimento al conflitto di interessi limiti di importo e temporali degli incarichi esterni fissati dal regolamento comunale di ordinamento degli uffici e dei servizi | H4: PREDISPOSIZIONE REGOLAMENTO (ON /OFF) N. AUTORIZZAZIONI RILASCIATE CONFORMI/ N. AUTORIZZAZIONI RILASCIATE | I4: 100% 100% | J4: 2 - Trasparenza Affari Generali Risorse Umane Datore di Lavoro Demografici
A5: CONCORSO PER L'ASSUNZIONE DI PERSONALE | B5: Programmazione dell'assunzione/fabbisogni del personale | C5: omessa o scorretta ricognizione delle eccedenze di personale con conseguente errato calcolo dei fabbisogni tra i diversi settori/unità organizzative dell'Ente anche al fine di procedere o meno all'assunzione di personale | D5: ='Valutaz Rischio ENTE'!T16 -> M | E5: Adempimento precedente riassorbito dal Piano dei fabbisogni e ora di nuovo cogente dopo l'assorbimento del Piano fabbisogni nel PIAO | G5: Annuale | H5: Inserimento all'interno della sezione 3.3 | I5: Sì | J5: Responsabile Risorse Umane | K5: OGNI ANNO | L5: ANNUALE | M5: In alternativa: a) si b) no | N5: In caso di opzione B illustrare le criticità riscontrate e come si intende risolverle
B6: Predisposizione del bando di concorso e/o avvisi di selezione | C6: mancato adeguamento / aggiornamento del Regolamento per l'organizzazione degli Uffici e dei Servizi - Sezione concorsi alle nuove normative legislative e contrattuali | D6: ='Valutaz Rischio ENTE'!$T$17 -> M | E6: Aggiornamento del relativo Regolamento per l'organizzazione degli Uffici e dei Servizi - Sezione concorsi alle nuove normative legislative e contrattuali | G6: In occasione di ogni aggiornamento normativo o contrattuale | H6: Aggiornamento del Regolamento (si/no) | I6: Sì | J6: Segretario Comunale | K6: OGNI ANNO | L6: ANNUALE | M6: In alternativa: a) si b) no | N6: In caso di opzione B illustrare le criticità riscontrate e come si intende risolverle
C7: previsione di requisiti e titoli di ammissione troppo generici ovvero troppo specifici, sproporazionati rispetto al profilo richiesto, al fine di favorire determinati candidati e/o restringere indebitamente i potenziali concorrenti - fenomeno bandi "ad personam" | D7: ='Valutaz Rischio ENTE'!$T$17 -> M | E7: Controllo a campione da parte del RPCT* dei bandi di concorso/avvisi di selezione, per verificare la coerenza dei requisiti di ammissione con i profili professionali richiesti, nonchè la corrispondenza del profilo professionale richiesto con quello bandito in sede di mobilità ex art. 34bis d.lgs. n. 165/2001 *il controllo potrà essere svolto dal Responsabile dell'Ufficio del personale laddove soggetto diverso dal dipendente che ha curato la redazione del bando Tracciabilità dello svolgimento e dell'esito delle operazioni concorsuali rispetto ai criteri di selezione e valutazione prestabiliti | F7: Evitare scadenza pubblicazione in periodi feriali (agosto - 24 dicembre/7 gennaio) | G7: In occasione di ogni pubblicazione di bando/avviso di procedura di selezione | H7: Percentuale a campione dei bandi/avvisi rispetto al totale | I7: >80 | J7: RPCT | K7: OGNI ANNO | L7: ANNUALE | M7: In alternativa: a) tra 80 e 100 % b) tra 50 e 80% c) tra 0 e 50% | N7: In caso di opzione B illustrare le criticità riscontrate e come si intende risolverle
